BEGIN:VCALENDAR
VERSION:2.0
PRODID:-//wp-events-plugin.com//7.0.5//EN
TZID:America/Los_Angeles
X-WR-TIMEZONE:America/Los_Angeles
BEGIN:VEVENT
UID:940@keckmedicine.org
DTSTART;TZID=America/Los_Angeles:20260502T070000
DTEND;TZID=America/Los_Angeles:20260502T120000
DTSTAMP:20260425T003541Z
URL:https://www.keckmedicine.org/events/arcadia-firefighters-breakfast/
SUMMARY:Arcadia Firefighters’ Annual Pancake Breakfast Fundraiser
DESCRIPTION:Join us for a fun community morning at the annual Arcadia Firef
 ighters’ Association pancake breakfast fundraiser. This event is proudly
  sponsored by USC Arcadia Hospital in partnership with the Arcadia Fire De
 partment. It is a great way to enjoy a delicious meal while supporting a w
 orthy cause. All proceeds from the morning will benefit the Arcadia Firefi
 ghters’ Association and its local charities.\nWhat We Will Cover\n\n 	De
 licious Food: Enjoy a fresh pancake breakfast with the community.\n 	Kids'
  Fun: Children can play in bounce houses and try a junior firefighter obst
 acle course.\n 	Live Action: Watch a live firefighting demonstration perfo
 rmed by local heroes.\n 	Creative Crafts: Visit the arts and crafts statio
 n for hands-on activities.\n 	Photo Opportunities: Capture the morning wit
 h friends and family at our photobooth.\n 	Raffle Prizes: Buy a ticket for
  the raffle to win exciting items.\n
ATTACH;FMTTYPE=image/jpeg:https://www.keckmedicine.org/wp-content/uploads/
 2026/04/pancake-breakfast-1.jpg
CATEGORIES:Community Outreach
LOCATION:Arcadia Fire Station No. 106\, 630 Baldwin Ave.\, Arcadia\, CA\, 9
 1007\, United States
GEO:34.132594;-118.054011
X-APPLE-STRUCTURED-LOCATION;VALUE=URI;X-ADDRESS=630 Baldwin Ave.\, Arcadia\
 , CA\, 91007\, United States;X-APPLE-RADIUS=100;X-TITLE=Arcadia Fire Stati
 on No. 106:geo:34.132594,-118.054011
END:VEVENT
BEGIN:VTIMEZONE
TZID:America/Los_Angeles
X-LIC-LOCATION:America/Los_Angeles
BEGIN:DAYLIGHT
DTSTART:20260308T030000
TZOFFSETFROM:-0800
TZOFFSETTO:-0700
TZNAME:PDT
END:DAYLIGHT
END:VTIMEZONE
END:VCALENDAR